BEGIN:VCALENDAR
VERSION:2.0
PRODID:http://www.pastoraler-raum-wadern.de
BEGIN:VEVENT
UID:019b2baa-3ec2-11f1-a3e9-0242ac11002b-1782203400000-de
DTSTAMP:20260423T031039Z
DTSTART:20260623T083000Z
DTEND:20260623T091500Z
SUMMARY;LANGUAGE=de:Abschlussgottesdienst der Förderschule 
END:VEVENT
END:VCALENDAR
